Package: hipathia Version: 3.6.0 Command: /home/biocbuild/R/R/bin/R CMD INSTALL hipathia StartedAt: 2025-01-30 21:04:39 -0000 (Thu, 30 Jan 2025) EndedAt: 2025-01-30 21:05:23 -0000 (Thu, 30 Jan 2025) EllapsedTime: 44.6 seconds RetCode: 0 Status: OK