Package: hmdbQuery Version: 1.26.0 Command: /home/biocbuild/R/R/bin/R CMD build --keep-empty-dirs --no-resave-data hmdbQuery StartedAt: 2025-02-04 00:18:12 -0000 (Tue, 04 Feb 2025) EndedAt: 2025-02-04 00:18:37 -0000 (Tue, 04 Feb 2025) EllapsedTime: 25.0 seconds RetCode: 1 Status: ERROR PackageFile: None PackageFileSize: NA