Package: hmdbQuery Version: 1.26.0 Command: /home/biocbuild/R/R/bin/R CMD INSTALL hmdbQuery StartedAt: 2025-02-03 20:24:44 -0000 (Mon, 03 Feb 2025) EndedAt: 2025-02-03 20:25:11 -0000 (Mon, 03 Feb 2025) EllapsedTime: 27.1 seconds RetCode: 0 Status: OK