Package: hoodscanR Version: 1.3.1 Command: rm -rf hoodscanR.buildbin-libdir && mkdir hoodscanR.buildbin-libdir && C:\Users\biocbuild\bbs-3.20-bioc\R\bin\R.exe CMD INSTALL --build --library=hoodscanR.buildbin-libdir hoodscanR_1.3.1.tar.gz StartedAt: 2024-07-16 06:18:56 -0400 (Tue, 16 Jul 2024) EndedAt: 2024-07-16 06:19:46 -0400 (Tue, 16 Jul 2024) EllapsedTime: 50.3 seconds RetCode: 0 Status: OK PackageFile: hoodscanR_1.3.1.zip PackageFileSize: 1.561 MiB