Package: hoodscanR Version: 1.4.0 Command: rm -rf hoodscanR.buildbin-libdir && mkdir hoodscanR.buildbin-libdir && F:\biocbuild\bbs-3.20-bioc\R\bin\R.exe CMD INSTALL --build --library=hoodscanR.buildbin-libdir hoodscanR_1.4.0.tar.gz StartedAt: 2025-02-04 08:42:33 -0500 (Tue, 04 Feb 2025) EndedAt: 2025-02-04 08:43:22 -0500 (Tue, 04 Feb 2025) EllapsedTime: 49.4 seconds RetCode: 0 Status: OK PackageFile: hoodscanR_1.4.0.zip PackageFileSize: 1.565 MiB