Package: hopach Version: 2.66.0 Command: /Library/Frameworks/R.framework/Resources/bin/R CMD build --keep-empty-dirs --no-resave-data hopach StartedAt: 2025-01-31 01:32:24 -0500 (Fri, 31 Jan 2025) EndedAt: 2025-01-31 01:32:58 -0500 (Fri, 31 Jan 2025) EllapsedTime: 34.3 seconds RetCode: 0 Status: OK PackageFile: hopach_2.66.0.tar.gz PackageFileSize: 1.293 MiB