Package: hopach Version: 2.66.0 Command: /Library/Frameworks/R.framework/Resources/bin/R CMD check --install=check:hopach.install-out.txt --library=/Library/Frameworks/R.framework/Resources/library --no-vignettes --timings hopach_2.66.0.tar.gz StartedAt: 2025-01-31 22:05:31 -0500 (Fri, 31 Jan 2025) EndedAt: 2025-01-31 22:06:31 -0500 (Fri, 31 Jan 2025) EllapsedTime: 60.0 seconds RetCode: 0 Status: OK CheckDir: hopach.Rcheck Warnings: 0