Package: hopach Version: 2.66.0 Command: /Library/Frameworks/R.framework/Resources/bin/R CMD INSTALL hopach StartedAt: 2025-01-30 15:06:25 -0500 (Thu, 30 Jan 2025) EndedAt: 2025-01-30 15:06:32 -0500 (Thu, 30 Jan 2025) EllapsedTime: 7.0 seconds RetCode: 0 Status: OK