Package: hopach Version: 2.66.0 Command: /Library/Frameworks/R.framework/Resources/bin/R CMD build --keep-empty-dirs --no-resave-data hopach StartedAt: 2025-01-30 19:53:51 -0500 (Thu, 30 Jan 2025) EndedAt: 2025-01-30 19:55:19 -0500 (Thu, 30 Jan 2025) EllapsedTime: 87.9 seconds RetCode: 0 Status: OK PackageFile: hopach_2.66.0.tar.gz PackageFileSize: 1.293 MiB