Package: hopach Version: 2.66.0 Command: /home/biocbuild/bbs-3.20-bioc/R/bin/R CMD INSTALL hopach StartedAt: 2025-02-03 15:14:17 -0500 (Mon, 03 Feb 2025) EndedAt: 2025-02-03 15:14:34 -0500 (Mon, 03 Feb 2025) EllapsedTime: 17.1 seconds RetCode: 0 Status: OK