Package: hopach Version: 2.66.0 Command: rm -rf hopach.buildbin-libdir && mkdir hopach.buildbin-libdir && F:\biocbuild\bbs-3.20-bioc\R\bin\R.exe CMD INSTALL --build --library=hopach.buildbin-libdir hopach_2.66.0.tar.gz StartedAt: 2025-02-04 08:42:35 -0500 (Tue, 04 Feb 2025) EndedAt: 2025-02-04 08:43:06 -0500 (Tue, 04 Feb 2025) EllapsedTime: 31.5 seconds RetCode: 0 Status: OK PackageFile: hopach_2.66.0.zip PackageFileSize: 976.3 KiB