Package: hopach Version: 2.66.0 Command: /home/biocbuild/R/R/bin/R CMD INSTALL hopach StartedAt: 2025-01-30 20:06:59 -0000 (Thu, 30 Jan 2025) EndedAt: 2025-01-30 20:07:25 -0000 (Thu, 30 Jan 2025) EllapsedTime: 26.3 seconds RetCode: 0 Status: OK