Package: hpar Version: 1.48.0 Command: rm -rf hpar.buildbin-libdir && mkdir hpar.buildbin-libdir && /Users/biocbuild/BBS/utils/build-universal.sh hpar_1.48.0.tar.gz /Library/Frameworks/R.framework/Resources/bin/R hpar.buildbin-libdir StartedAt: 2025-02-05 16:14:12 -0500 (Wed, 05 Feb 2025) EndedAt: 2025-02-05 16:14:31 -0500 (Wed, 05 Feb 2025) EllapsedTime: 19.0 seconds RetCode: 0 Status: OK PackageFile: hpar_1.48.0.tgz PackageFileSize: 638.2 KiB