Package: hpar Version: 1.48.0 Command: /Library/Frameworks/R.framework/Resources/bin/R CMD build --keep-empty-dirs --no-resave-data hpar StartedAt: 2025-01-31 01:33:21 -0500 (Fri, 31 Jan 2025) EndedAt: 2025-01-31 01:34:08 -0500 (Fri, 31 Jan 2025) EllapsedTime: 47.7 seconds RetCode: 0 Status: OK PackageFile: hpar_1.48.0.tar.gz PackageFileSize: 885.3 KiB