Package: hpar Version: 1.48.0 Command: /Library/Frameworks/R.framework/Resources/bin/R CMD check --install=check:hpar.install-out.txt --library=/Library/Frameworks/R.framework/Resources/library --no-vignettes --timings hpar_1.48.0.tar.gz StartedAt: 2025-01-31 22:06:31 -0500 (Fri, 31 Jan 2025) EndedAt: 2025-01-31 22:08:33 -0500 (Fri, 31 Jan 2025) EllapsedTime: 121.6 seconds RetCode: 0 Status: OK CheckDir: hpar.Rcheck Warnings: 0