Package: hpar Version: 1.48.0 Command: /Library/Frameworks/R.framework/Resources/bin/R CMD INSTALL hpar StartedAt: 2025-01-30 15:43:39 -0500 (Thu, 30 Jan 2025) EndedAt: 2025-01-30 15:43:55 -0500 (Thu, 30 Jan 2025) EllapsedTime: 16.5 seconds RetCode: 0 Status: OK