Package: hpar Version: 1.48.0 Command: /home/biocbuild/R/R/bin/R CMD build --keep-empty-dirs --no-resave-data hpar StartedAt: 2024-11-20 01:25:59 -0000 (Wed, 20 Nov 2024) EndedAt: 2024-11-20 01:27:01 -0000 (Wed, 20 Nov 2024) EllapsedTime: 62.1 seconds RetCode: 0 Status: OK PackageFile: hpar_1.48.0.tar.gz PackageFileSize: 983.1 KiB