Package: hpar Version: 1.48.0 Command: /Library/Frameworks/R.framework/Resources/bin/R CMD INSTALL hpar StartedAt: 2025-01-30 15:33:18 -0500 (Thu, 30 Jan 2025) EndedAt: 2025-01-30 15:33:54 -0500 (Thu, 30 Jan 2025) EllapsedTime: 35.7 seconds RetCode: 0 Status: OK