Package: hpar Version: 1.48.0 Command: /home/biocbuild/bbs-3.20-bioc/R/bin/R CMD build --keep-empty-dirs --no-resave-data --md5 hpar StartedAt: 2025-01-30 17:40:27 -0500 (Thu, 30 Jan 2025) EndedAt: 2025-01-30 17:41:06 -0500 (Thu, 30 Jan 2025) EllapsedTime: 38.1 seconds RetCode: 0 Status: OK PackageFile: hpar_1.48.0.tar.gz PackageFileSize: 885.7 KiB