Package: hpar Version: 1.48.0 Command: rm -rf hpar.buildbin-libdir && mkdir hpar.buildbin-libdir && F:\biocbuild\bbs-3.20-bioc\R\bin\R.exe CMD INSTALL --build --library=hpar.buildbin-libdir hpar_1.48.0.tar.gz StartedAt: 2025-01-31 08:50:37 -0500 (Fri, 31 Jan 2025) EndedAt: 2025-01-31 08:50:56 -0500 (Fri, 31 Jan 2025) EllapsedTime: 18.6 seconds RetCode: 0 Status: OK PackageFile: hpar_1.48.0.zip PackageFileSize: 644.6 KiB