Package: hyperdraw Version: 1.58.0 Command: rm -rf hyperdraw.buildbin-libdir && mkdir hyperdraw.buildbin-libdir && /Users/biocbuild/BBS/utils/build-universal.sh hyperdraw_1.58.0.tar.gz /Library/Frameworks/R.framework/Resources/bin/R hyperdraw.buildbin-libdir StartedAt: 2025-02-05 16:14:43 -0500 (Wed, 05 Feb 2025) EndedAt: 2025-02-05 16:14:50 -0500 (Wed, 05 Feb 2025) EllapsedTime: 6.8 seconds RetCode: 0 Status: OK PackageFile: hyperdraw_1.58.0.tgz PackageFileSize: 392.2 KiB