Package: hyperdraw Version: 1.58.0 Command: /Library/Frameworks/R.framework/Resources/bin/R CMD check --install=check:hyperdraw.install-out.txt --library=/Library/Frameworks/R.framework/Resources/library --no-vignettes --timings hyperdraw_1.58.0.tar.gz StartedAt: 2025-02-04 05:04:11 -0500 (Tue, 04 Feb 2025) EndedAt: 2025-02-04 05:05:15 -0500 (Tue, 04 Feb 2025) EllapsedTime: 63.7 seconds RetCode: 0 Status: OK CheckDir: hyperdraw.Rcheck Warnings: 0