Package: hyperdraw Version: 1.58.0 Command: /home/biocbuild/bbs-3.20-bioc/R/bin/R CMD INSTALL hyperdraw StartedAt: 2025-02-17 15:14:49 -0500 (Mon, 17 Feb 2025) EndedAt: 2025-02-17 15:15:01 -0500 (Mon, 17 Feb 2025) EllapsedTime: 11.3 seconds RetCode: 0 Status: OK