Package: hyperdraw Version: 1.58.0 Command: F:\biocbuild\bbs-3.20-bioc\R\bin\R.exe CMD INSTALL hyperdraw StartedAt: 2025-02-17 15:54:38 -0500 (Mon, 17 Feb 2025) EndedAt: 2025-02-17 15:54:57 -0500 (Mon, 17 Feb 2025) EllapsedTime: 18.6 seconds RetCode: 0 Status: OK