Package: hyperdraw Version: 1.58.0 Command: /home/biocbuild/R/R/bin/R CMD check --install=check:hyperdraw.install-out.txt --library=/home/biocbuild/R/R/site-library --no-vignettes --timings hyperdraw_1.58.0.tar.gz StartedAt: 2025-01-31 07:15:38 -0000 (Fri, 31 Jan 2025) EndedAt: 2025-01-31 07:16:09 -0000 (Fri, 31 Jan 2025) EllapsedTime: 31.0 seconds RetCode: 0 Status: OK CheckDir: hyperdraw.Rcheck Warnings: 0