Package: hyperdraw Version: 1.58.0 Command: /home/biocbuild/R/R/bin/R CMD INSTALL hyperdraw StartedAt: 2025-01-30 20:11:37 -0000 (Thu, 30 Jan 2025) EndedAt: 2025-01-30 20:11:54 -0000 (Thu, 30 Jan 2025) EllapsedTime: 17.0 seconds RetCode: 0 Status: OK