Package: hypergraph Version: 1.78.0 Command: /Library/Frameworks/R.framework/Resources/bin/R CMD build --keep-empty-dirs --no-resave-data hypergraph StartedAt: 2025-02-03 19:40:36 -0500 (Mon, 03 Feb 2025) EndedAt: 2025-02-03 19:40:38 -0500 (Mon, 03 Feb 2025) EllapsedTime: 2.2 seconds RetCode: 0 Status: OK PackageFile: hypergraph_1.78.0.tar.gz PackageFileSize: 8.273 KiB