Package: hypergraph Version: 1.78.0 Command: /home/biocbuild/R/R/bin/R CMD build --keep-empty-dirs --no-resave-data hypergraph StartedAt: 2025-02-04 00:20:26 -0000 (Tue, 04 Feb 2025) EndedAt: 2025-02-04 00:20:27 -0000 (Tue, 04 Feb 2025) EllapsedTime: 1.0 seconds RetCode: 0 Status: OK PackageFile: hypergraph_1.78.0.tar.gz PackageFileSize: 8.271 KiB