Package: iBBiG Version: 1.50.0 Command: /home/biocbuild/bbs-3.20-bioc/R/bin/R CMD build --keep-empty-dirs --no-resave-data --md5 iBBiG StartedAt: 2025-02-03 17:50:41 -0500 (Mon, 03 Feb 2025) EndedAt: 2025-02-03 17:51:12 -0500 (Mon, 03 Feb 2025) EllapsedTime: 31.0 seconds RetCode: 0 Status: OK PackageFile: iBBiG_1.50.0.tar.gz PackageFileSize: 910.2 KiB