Package: iBMQ Version: 1.46.0 Command: rm -rf iBMQ.buildbin-libdir && mkdir iBMQ.buildbin-libdir && F:\biocbuild\bbs-3.20-bioc\R\bin\R.exe CMD INSTALL --build --library=iBMQ.buildbin-libdir iBMQ_1.46.0.tar.gz StartedAt: 2025-02-04 08:43:10 -0500 (Tue, 04 Feb 2025) EndedAt: 2025-02-04 08:43:38 -0500 (Tue, 04 Feb 2025) EllapsedTime: 28.1 seconds RetCode: 0 Status: OK PackageFile: iBMQ_1.46.0.zip PackageFileSize: 2.452 MiB