Package: iCARE Version: 1.34.0 Command: /Library/Frameworks/R.framework/Resources/bin/R CMD check --install=check:iCARE.install-out.txt --library=/Library/Frameworks/R.framework/Resources/library --no-vignettes --timings iCARE_1.34.0.tar.gz StartedAt: 2025-02-04 22:46:35 -0500 (Tue, 04 Feb 2025) EndedAt: 2025-02-04 22:48:10 -0500 (Tue, 04 Feb 2025) EllapsedTime: 95.0 seconds RetCode: 0 Status: WARNINGS CheckDir: iCARE.Rcheck Warnings: 2