Package: iCARE Version: 1.34.0 Command: /Library/Frameworks/R.framework/Resources/bin/R CMD INSTALL iCARE StartedAt: 2025-02-17 16:58:28 -0500 (Mon, 17 Feb 2025) EndedAt: 2025-02-17 16:58:38 -0500 (Mon, 17 Feb 2025) EllapsedTime: 9.8 seconds RetCode: 0 Status: OK