Package: iCARE
Version: 1.34.0
Command: /home/biocbuild/R/R/bin/R CMD build --keep-empty-dirs --no-resave-data iCARE
StartedAt: 2024-11-20 01:27:26 -0000 (Wed, 20 Nov 2024)
EndedAt: 2024-11-20 01:35:44 -0000 (Wed, 20 Nov 2024)
EllapsedTime: 497.7 seconds
RetCode: 0
Status: OK
PackageFile: iCARE_1.34.0.tar.gz
PackageFileSize: 1.41 <A href="http://en.wikipedia.org/wiki/MiB" target="_blank">MiB</A>