Package: iCARE Version: 1.34.0 Command: /Library/Frameworks/R.framework/Resources/bin/R CMD build --keep-empty-dirs --no-resave-data iCARE StartedAt: 2025-02-03 19:40:53 -0500 (Mon, 03 Feb 2025) EndedAt: 2025-02-03 19:45:46 -0500 (Mon, 03 Feb 2025) EllapsedTime: 293.0 seconds RetCode: 0 Status: OK PackageFile: iCARE_1.34.0.tar.gz PackageFileSize: 1.42 MiB