Package: iCARE Version: 1.34.0 Command: /home/biocbuild/bbs-3.20-bioc/R/bin/R CMD build --keep-empty-dirs --no-resave-data --md5 iCARE StartedAt: 2025-02-03 17:50:44 -0500 (Mon, 03 Feb 2025) EndedAt: 2025-02-03 17:54:06 -0500 (Mon, 03 Feb 2025) EllapsedTime: 202.3 seconds RetCode: 0 Status: OK PackageFile: iCARE_1.34.0.tar.gz PackageFileSize: 1.422 MiB