##############################################################################
##############################################################################
###
### Running command:
###
###   rm -rf iCARE.buildbin-libdir && mkdir iCARE.buildbin-libdir && F:\biocbuild\bbs-3.20-bioc\R\bin\R.exe CMD INSTALL --build --library=iCARE.buildbin-libdir iCARE_1.33.1.tar.gz
###
##############################################################################
##############################################################################


* installing *source* package 'iCARE' ...
** using staged installation
** libs
using C compiler: 'gcc.exe (GCC) 13.2.0'
gcc  -I"F:/biocbuild/bbs-3.20-bioc/R/include" -DNDEBUG     -I"C:/rtools44/x86_64-w64-mingw32.static.posix/include"     -O2 -Wall  -mfpmath=sse -msse2 -mstackrealign  -c source.c -o source.o
gcc -shared -s -static-libgcc -o iCARE.dll tmp.def source.o -LC:/rtools44/x86_64-w64-mingw32.static.posix/lib/x64 -LC:/rtools44/x86_64-w64-mingw32.static.posix/lib -LF:/biocbuild/bbs-3.20-bioc/R/bin/x64 -lR
installing to F:/biocbuild/bbs-3.20-bioc/meat/iCARE.buildbin-libdir/00LOCK-iCARE/00new/iCARE/libs/x64
** R
** data
*** moving datasets to lazyload DB
** inst
** byte-compile and prepare package for lazy loading
** help
*** installing help indices
** building package indices
** installing vignettes
** testing if installed package can be loaded from temporary location
** testing if installed package can be loaded from final location
** testing if installed package keeps a record of temporary installation path
* MD5 sums
packaged installation of 'iCARE' as iCARE_1.33.1.zip
* DONE (iCARE)