Package: iCARE
Version: 1.33.1
Command: rm -rf iCARE.buildbin-libdir && mkdir iCARE.buildbin-libdir && F:\biocbuild\bbs-3.20-bioc\R\bin\R.exe CMD INSTALL --build --library=iCARE.buildbin-libdir iCARE_1.33.1.tar.gz
StartedAt: 2024-06-10 13:55:07 -0400 (Mon, 10 Jun 2024)
EndedAt: 2024-06-10 13:56:37 -0400 (Mon, 10 Jun 2024)
EllapsedTime: 90.0 seconds
RetCode: 0
Status: OK
PackageFile: iCARE_1.33.1.zip
PackageFileSize: 1.344 <A href="http://en.wikipedia.org/wiki/MiB" target="_blank">MiB</A>