Package: iCARE Version: 1.34.0 Command: F:\biocbuild\bbs-3.20-bioc\R\bin\R.exe CMD check --no-multiarch --install=check:iCARE.install-out.txt --library=F:\biocbuild\bbs-3.20-bioc\R\library --no-vignettes --timings iCARE_1.34.0.tar.gz StartedAt: 2025-02-04 02:49:23 -0500 (Tue, 04 Feb 2025) EndedAt: 2025-02-04 02:51:29 -0500 (Tue, 04 Feb 2025) EllapsedTime: 126.1 seconds RetCode: 0 Status: WARNINGS CheckDir: iCARE.Rcheck Warnings: 1