Package: iCARE
Version: 1.34.0
Command: /home/biocbuild/R/R/bin/R CMD build --keep-empty-dirs --no-resave-data iCARE
StartedAt: 2025-02-18 00:19:41 -0000 (Tue, 18 Feb 2025)
EndedAt: 2025-02-18 00:24:11 -0000 (Tue, 18 Feb 2025)
EllapsedTime: 269.2 seconds
RetCode: 0
Status: OK
PackageFile: iCARE_1.34.0.tar.gz
PackageFileSize: 1.411 <A href="http://en.wikipedia.org/wiki/MiB" target="_blank">MiB</A>