Package: iCARE Version: 1.34.0 Command: /home/biocbuild/R/R/bin/R CMD INSTALL iCARE StartedAt: 2025-02-17 20:53:13 -0000 (Mon, 17 Feb 2025) EndedAt: 2025-02-17 20:53:22 -0000 (Mon, 17 Feb 2025) EllapsedTime: 8.9 seconds RetCode: 0 Status: OK