Package: iCNV
Version: 1.26.0
Command: /home/biocbuild/R/R/bin/R CMD build --keep-empty-dirs --no-resave-data iCNV
StartedAt: 2024-11-20 01:28:12 -0000 (Wed, 20 Nov 2024)
EndedAt: 2024-11-20 01:31:22 -0000 (Wed, 20 Nov 2024)
EllapsedTime: 189.2 seconds
RetCode: 0
Status: OK
PackageFile: iCNV_1.26.0.tar.gz
PackageFileSize: 1.788 <A href="http://en.wikipedia.org/wiki/MiB" target="_blank">MiB</A>