Package: iCNV
Version: 1.26.0
Command: /home/biocbuild/bbs-3.20-bioc/R/bin/R CMD check --install=check:iCNV.install-out.txt --library=/home/biocbuild/bbs-3.20-bioc/R/site-library --timings iCNV_1.26.0.tar.gz
StartedAt: 2025-02-17 23:00:46 -0500 (Mon, 17 Feb 2025)
EndedAt: 2025-02-17 23:05:58 -0500 (Mon, 17 Feb 2025)
EllapsedTime: 312.4 seconds
RetCode: 0
Status: WARNINGS
CheckDir: iCNV.Rcheck
Warnings: 1