Package: iCNV Version: 1.26.0 Command: chmod a+r iCNV -R && F:\biocbuild\bbs-3.20-bioc\R\bin\R.exe CMD build --keep-empty-dirs --no-resave-data iCNV StartedAt: 2025-02-17 19:34:49 -0500 (Mon, 17 Feb 2025) EndedAt: 2025-02-17 19:39:33 -0500 (Mon, 17 Feb 2025) EllapsedTime: 283.9 seconds RetCode: 0 Status: OK PackageFile: iCNV_1.26.0.tar.gz PackageFileSize: 1.765 <A href="http://en.wikipedia.org/wiki/MiB" target="_blank">MiB</A>