Package: iCNV Version: 1.26.0 Command: /home/biocbuild/R/R/bin/R CMD build --keep-empty-dirs --no-resave-data iCNV StartedAt: 2025-02-04 00:21:06 -0000 (Tue, 04 Feb 2025) EndedAt: 2025-02-04 00:24:03 -0000 (Tue, 04 Feb 2025) EllapsedTime: 176.1 seconds RetCode: 0 Status: OK PackageFile: iCNV_1.26.0.tar.gz PackageFileSize: 1.781 MiB