Package: iCNV Version: 1.26.0 Command: /home/biocbuild/R/R/bin/R CMD check --install=check:iCNV.install-out.txt --library=/home/biocbuild/R/R/site-library --no-vignettes --timings iCNV_1.26.0.tar.gz StartedAt: 2025-02-04 07:58:17 -0000 (Tue, 04 Feb 2025) EndedAt: 2025-02-04 08:02:49 -0000 (Tue, 04 Feb 2025) EllapsedTime: 271.3 seconds RetCode: 0 Status: WARNINGS CheckDir: iCNV.Rcheck Warnings: 1