Package: iChip
Version: 1.60.0
Command: /Library/Frameworks/R.framework/Resources/bin/R CMD INSTALL iChip
StartedAt: 2024-11-19 15:07:14 -0500 (Tue, 19 Nov 2024)
EndedAt: 2024-11-19 15:07:44 -0500 (Tue, 19 Nov 2024)
EllapsedTime: 30.4 seconds
RetCode: 0
Status: OK