Package: iChip Version: 1.60.0 Command: /home/biocbuild/bbs-3.20-bioc/R/bin/R CMD check --install=check:iChip.install-out.txt --library=/home/biocbuild/bbs-3.20-bioc/R/site-library --timings iChip_1.60.0.tar.gz StartedAt: 2025-02-03 23:17:51 -0500 (Mon, 03 Feb 2025) EndedAt: 2025-02-03 23:18:43 -0500 (Mon, 03 Feb 2025) EllapsedTime: 52.1 seconds RetCode: 0 Status: WARNINGS CheckDir: iChip.Rcheck Warnings: 1