Package: iChip Version: 1.60.0 Command: /home/biocbuild/R/R/bin/R CMD build --keep-empty-dirs --no-resave-data iChip StartedAt: 2025-02-04 00:20:41 -0000 (Tue, 04 Feb 2025) EndedAt: 2025-02-04 00:21:17 -0000 (Tue, 04 Feb 2025) EllapsedTime: 36.0 seconds RetCode: 0 Status: OK PackageFile: iChip_1.60.0.tar.gz PackageFileSize: 1.7 MiB