Package: iChip Version: 1.60.0 Command: /home/biocbuild/R/R/bin/R CMD INSTALL iChip StartedAt: 2025-02-03 20:26:31 -0000 (Mon, 03 Feb 2025) EndedAt: 2025-02-03 20:26:56 -0000 (Mon, 03 Feb 2025) EllapsedTime: 24.8 seconds RetCode: 0 Status: OK