Package: iClusterPlus Version: 1.42.0 Command: rm -rf iClusterPlus.buildbin-libdir && mkdir iClusterPlus.buildbin-libdir && /Users/biocbuild/BBS/utils/build-universal.sh iClusterPlus_1.42.0.tar.gz /Library/Frameworks/R.framework/Resources/bin/R iClusterPlus.buildbin-libdir StartedAt: 2025-02-05 16:15:11 -0500 (Wed, 05 Feb 2025) EndedAt: 2025-02-05 16:15:55 -0500 (Wed, 05 Feb 2025) EllapsedTime: 44.0 seconds RetCode: 0 Status: OK PackageFile: iClusterPlus_1.42.0.tgz PackageFileSize: 16.12 MiB